BEGIN:VCALENDAR
VERSION:2.0
PRODID:-//Inclusive Workplace and Supply Council of Canada - ECPv6.15.20//NONSGML v1.0//EN
CALSCALE:GREGORIAN
METHOD:PUBLISH
X-ORIGINAL-URL:https://iwscc.ca
X-WR-CALDESC:Events for Inclusive Workplace and Supply Council of Canada
REFRESH-INTERVAL;VALUE=DURATION:PT1H
X-Robots-Tag:noindex
X-PUBLISHED-TTL:PT1H
BEGIN:VTIMEZONE
TZID:America/Toronto
BEGIN:DAYLIGHT
TZOFFSETFROM:-0500
TZOFFSETTO:-0400
TZNAME:EDT
DTSTART:20240310T070000
END:DAYLIGHT
BEGIN:STANDARD
TZOFFSETFROM:-0400
TZOFFSETTO:-0500
TZNAME:EST
DTSTART:20241103T060000
END:STANDARD
BEGIN:DAYLIGHT
TZOFFSETFROM:-0500
TZOFFSETTO:-0400
TZNAME:EDT
DTSTART:20250309T070000
END:DAYLIGHT
BEGIN:STANDARD
TZOFFSETFROM:-0400
TZOFFSETTO:-0500
TZNAME:EST
DTSTART:20251102T060000
END:STANDARD
BEGIN:DAYLIGHT
TZOFFSETFROM:-0500
TZOFFSETTO:-0400
TZNAME:EDT
DTSTART:20260308T070000
END:DAYLIGHT
BEGIN:STANDARD
TZOFFSETFROM:-0400
TZOFFSETTO:-0500
TZNAME:EST
DTSTART:20261101T060000
END:STANDARD
END:VTIMEZONE
BEGIN:VEVENT
DTSTART;TZID=America/Toronto:20250724T140000
DTEND;TZID=America/Toronto:20250724T153000
DTSTAMP:20260421T175226
CREATED:20250603T184440Z
LAST-MODIFIED:20250704T164034Z
UID:7341-1753365600-1753371000@iwscc.ca
SUMMARY:Meet the Buyers: Construction & Infrastructure
DESCRIPTION:Let’s get connected! IWSCC presents your next IWSCC Corporate Member networking opportunity featuring Corporate Members who frequently engage in\, and purchase\, Construction & Infrastructure projects. \nWhat to Expect:\nConnect with some of Canada’s largest purchasers\, IWSCC Corporate Members constructing our communities from top to bottom. Build new relationships\, reinvigorate past connections\, and connect with Members eager to work with Certified Veteran-Owned and Disabled-Owned businesses. \nTake an express-pass to connecting when you register for our 30-minute introductions\, or stay for more detailed discussions with optional extended networking time. All attendees receive contact information either way\, so don’t let a busy schedule keep you from meeting your next business opportunity! \nAgenda:\n2:00 – 2:05: Announcements & Housekeeping by IWSCC\n2:05 – 2:30: IWSCC Corporate Member Introductions \nOptional: \n2:30 – 3:30: Virtual Roundtable Networking \nAccessibility at this Event:\nThis event will feature American Sign Language (ASL) Interpretation for Spoken English provided by Maple Communications Canada and sponsored by RBC. Live Closed Captions are also available via Zoom. \nRegistration\nThis IWSCC Networking Event is invite-only for IWSCC Community Members. Invitations to this event have been sent! If you’re an IWSCC Community Member and havent received an invite\, please contact Alex Duerksen at AlexD@iwscc.ca
URL:https://iwscc.ca/event/mtb2025-construction-and-infrastructure/
LOCATION:Virtual
CATEGORIES:Members Only,Networking,Virtual
ATTACH;FMTTYPE=image/png:https://iwscc.ca/wp-content/uploads/2025/04/IWSCC_MTB2025_Construction-1.png
END:VEVENT
END:VCALENDAR