BEGIN:VCALENDAR
VERSION:2.0
PRODID:-//Inclusive Workplace and Supply Council of Canada - ECPv6.15.20//NONSGML v1.0//EN
CALSCALE:GREGORIAN
METHOD:PUBLISH
X-WR-CALNAME:Inclusive Workplace and Supply Council of Canada
X-ORIGINAL-URL:https://iwscc.ca
X-WR-CALDESC:Events for Inclusive Workplace and Supply Council of Canada
REFRESH-INTERVAL;VALUE=DURATION:PT1H
X-Robots-Tag:noindex
X-PUBLISHED-TTL:PT1H
BEGIN:VTIMEZONE
TZID:America/Toronto
BEGIN:DAYLIGHT
TZOFFSETFROM:-0500
TZOFFSETTO:-0400
TZNAME:EDT
DTSTART:20250309T070000
END:DAYLIGHT
BEGIN:STANDARD
TZOFFSETFROM:-0400
TZOFFSETTO:-0500
TZNAME:EST
DTSTART:20251102T060000
END:STANDARD
BEGIN:DAYLIGHT
TZOFFSETFROM:-0500
TZOFFSETTO:-0400
TZNAME:EDT
DTSTART:20260308T070000
END:DAYLIGHT
BEGIN:STANDARD
TZOFFSETFROM:-0400
TZOFFSETTO:-0500
TZNAME:EST
DTSTART:20261101T060000
END:STANDARD
BEGIN:DAYLIGHT
TZOFFSETFROM:-0500
TZOFFSETTO:-0400
TZNAME:EDT
DTSTART:20270314T070000
END:DAYLIGHT
BEGIN:STANDARD
TZOFFSETFROM:-0400
TZOFFSETTO:-0500
TZNAME:EST
DTSTART:20271107T060000
END:STANDARD
END:VTIMEZONE
BEGIN:VEVENT
DTSTART;TZID=America/Toronto:20260527T130000
DTEND;TZID=America/Toronto:20260527T150000
DTSTAMP:20260421T144713
CREATED:20260414T141201Z
LAST-MODIFIED:20260414T141203Z
UID:9489-1779886800-1779894000@iwscc.ca
SUMMARY:Reach: The National Forum for Disabled Entrepreneurship 2026
DESCRIPTION:IWSCC’s celebration of Canadian Disabled-Owned businesses returns on Wednesday May 27th! \nJoin us for an afternoon of dialogue\, resource sharing\, and community awards.  \nEarly registration is now open! For more information about the 2026 Reach Forum\, please visit the official event page here.
URL:https://iwscc.ca/event/reach-2026/
LOCATION:Virtual
CATEGORIES:IWSCC Event,Virtual
ATTACH;FMTTYPE=image/png:https://iwscc.ca/wp-content/uploads/2023/05/REACH-Primary-FullColour.png
END:VEVENT
END:VCALENDAR