BEGIN:VCALENDAR
VERSION:2.0
PRODID:-//Inclusive Workplace and Supply Council of Canada - ECPv6.15.20//NONSGML v1.0//EN
CALSCALE:GREGORIAN
METHOD:PUBLISH
X-WR-CALNAME:Inclusive Workplace and Supply Council of Canada
X-ORIGINAL-URL:https://iwscc.ca
X-WR-CALDESC:Events for Inclusive Workplace and Supply Council of Canada
REFRESH-INTERVAL;VALUE=DURATION:PT1H
X-Robots-Tag:noindex
X-PUBLISHED-TTL:PT1H
BEGIN:VTIMEZONE
TZID:America/Toronto
BEGIN:DAYLIGHT
TZOFFSETFROM:-0500
TZOFFSETTO:-0400
TZNAME:EDT
DTSTART:20250309T070000
END:DAYLIGHT
BEGIN:STANDARD
TZOFFSETFROM:-0400
TZOFFSETTO:-0500
TZNAME:EST
DTSTART:20251102T060000
END:STANDARD
BEGIN:DAYLIGHT
TZOFFSETFROM:-0500
TZOFFSETTO:-0400
TZNAME:EDT
DTSTART:20260308T070000
END:DAYLIGHT
BEGIN:STANDARD
TZOFFSETFROM:-0400
TZOFFSETTO:-0500
TZNAME:EST
DTSTART:20261101T060000
END:STANDARD
BEGIN:DAYLIGHT
TZOFFSETFROM:-0500
TZOFFSETTO:-0400
TZNAME:EDT
DTSTART:20270314T070000
END:DAYLIGHT
BEGIN:STANDARD
TZOFFSETFROM:-0400
TZOFFSETTO:-0500
TZNAME:EST
DTSTART:20271107T060000
END:STANDARD
END:VTIMEZONE
BEGIN:VEVENT
DTSTART;TZID=America/Toronto:20260224T130000
DTEND;TZID=America/Toronto:20260224T140000
DTSTAMP:20260421T175110
CREATED:20260108T183639Z
LAST-MODIFIED:20260108T183639Z
UID:9047-1771938000-1771941600@iwscc.ca
SUMMARY:Networking for Introverts
DESCRIPTION:Are you an introvert who dreads networking\, feels overwhelmed in large gatherings\, or struggles to make meaningful professional connections? This workshop is designed just for you! Join us for insightful strategies\, practical tips\, and friendly practice to leverage your introverted nature as a powerful networking tool. You’ll discover how to master the art of prepping and recovering from events\, build authentic relationships\, communicate effectively\, and network without exhaustion—all while staying true to yourself. \nLearning Outcomes: \n\nUnderstanding Your Introverted Superpowers\nPreparation: Your Secret Weapon\nQuality Over Quantity: The Introvert’s Advantage\nNavigating Networking Events with Ease\nFollow-up: Where Introverts Shine\n\nCost to Attend\nThis event is free to attend for BC residents. For attendees outside of BC there is a $30 ticket fee. \nIWSCC Certified Suppliers outside of BC can contact us at info@iwscc.ca to reimburse their ticket cost for this event. For more information\, or for questions about ticketing please visit the official page. \nThis is an IWSCC Community Partner Event\, hosted by Community Futures BC.\nTo learn more about this event\, including registration\, accessibility\, and contact information\, please visit the host’s official page with the link below. \nLearn more about the event and register here.\nLearn more about IWSCC Community Partners here.
URL:https://iwscc.ca/event/cfbc-feb24-networking-for-introverts/
LOCATION:Virtual
CATEGORIES:Learning,Partner Event,Virtual
ATTACH;FMTTYPE=image/png:https://iwscc.ca/wp-content/uploads/2026/01/Banner_CFBC_Feb-24.png
END:VEVENT
END:VCALENDAR