BEGIN:VCALENDAR
VERSION:2.0
PRODID:-//Inclusive Workplace and Supply Council of Canada - ECPv6.15.20//NONSGML v1.0//EN
CALSCALE:GREGORIAN
METHOD:PUBLISH
X-WR-CALNAME:Inclusive Workplace and Supply Council of Canada
X-ORIGINAL-URL:https://iwscc.ca
X-WR-CALDESC:Events for Inclusive Workplace and Supply Council of Canada
REFRESH-INTERVAL;VALUE=DURATION:PT1H
X-Robots-Tag:noindex
X-PUBLISHED-TTL:PT1H
BEGIN:VTIMEZONE
TZID:America/Vancouver
BEGIN:DAYLIGHT
TZOFFSETFROM:-0800
TZOFFSETTO:-0700
TZNAME:PDT
DTSTART:20250309T100000
END:DAYLIGHT
BEGIN:STANDARD
TZOFFSETFROM:-0700
TZOFFSETTO:-0800
TZNAME:PST
DTSTART:20251102T090000
END:STANDARD
BEGIN:DAYLIGHT
TZOFFSETFROM:-0800
TZOFFSETTO:-0700
TZNAME:PDT
DTSTART:20260308T100000
END:DAYLIGHT
BEGIN:STANDARD
TZOFFSETFROM:-0700
TZOFFSETTO:-0800
TZNAME:PST
DTSTART:20261101T090000
END:STANDARD
BEGIN:DAYLIGHT
TZOFFSETFROM:-0800
TZOFFSETTO:-0700
TZNAME:PDT
DTSTART:20270314T100000
END:DAYLIGHT
BEGIN:STANDARD
TZOFFSETFROM:-0700
TZOFFSETTO:-0800
TZNAME:PST
DTSTART:20271107T090000
END:STANDARD
END:VTIMEZONE
BEGIN:VEVENT
DTSTART;TZID=America/Vancouver:20260203T100000
DTEND;TZID=America/Vancouver:20260203T140000
DTSTAMP:20260421T175107
CREATED:20260109T154513Z
LAST-MODIFIED:20260109T154524Z
UID:9058-1770112800-1770127200@iwscc.ca
SUMMARY:Public Sector Buyers Expo: Victoria
DESCRIPTION:Join PSPC for a dynamic regional Public Sector Buyers Expos to connect face-to-face with federal and other public procurement professionals\, diverse suppliers and British Columbia community partners. If you are a government or public buyer searching for more diverse suppliers\, or a small and medium enterprise (SME) looking for new opportunities come to these events. Our free expo is for both industry and community groups to: highlight economic opportunities in public procurement\, tailored to the unique needs of the Pacific region\, host informative sessions\, and ample networking to build relationships. \nThis Event is  In-person only. The Event Time shown is in local time (PT). \nAccessibility At This Event:\nAccessing the venue requires use of some stairs. For any accommodations please contact: SACPacifique-PACPacific@pwgsc-tpsgc.gc.ca by January 15th to ensure your requests can be met. \nThis is an IWSCC Corporate Member Event\, hosted by Procurement Assistance Canada.\nTo learn more about this event\, including registration\, accessibility\, and contact information\, please visit the host’s official page with the link below. \nLearn more about the event and register here.\nLearn more about IWSCC Corporate Members here.
URL:https://iwscc.ca/event/pspc-feb3-victoria/
LOCATION:Canadian Forces Base Esquimalt\, Chief and Petty Officers’ Mess Hall\, 1575 Lyall Street\, Victoria\, BC
CATEGORIES:Corporate Member Event,In-Person,Learning
ATTACH;FMTTYPE=image/jpeg:https://iwscc.ca/wp-content/uploads/2026/01/https___cdn.evbuc_.com_images_1174119968_109623386499_1_original.jpg
END:VEVENT
END:VCALENDAR