BEGIN:VCALENDAR
VERSION:2.0
PRODID:-//Inclusive Workplace and Supply Council of Canada - ECPv6.15.20//NONSGML v1.0//EN
CALSCALE:GREGORIAN
METHOD:PUBLISH
X-WR-CALNAME:Inclusive Workplace and Supply Council of Canada
X-ORIGINAL-URL:https://iwscc.ca
X-WR-CALDESC:Events for Inclusive Workplace and Supply Council of Canada
REFRESH-INTERVAL;VALUE=DURATION:PT1H
X-Robots-Tag:noindex
X-PUBLISHED-TTL:PT1H
BEGIN:VTIMEZONE
TZID:America/Toronto
BEGIN:DAYLIGHT
TZOFFSETFROM:-0500
TZOFFSETTO:-0400
TZNAME:EDT
DTSTART:20250309T070000
END:DAYLIGHT
BEGIN:STANDARD
TZOFFSETFROM:-0400
TZOFFSETTO:-0500
TZNAME:EST
DTSTART:20251102T060000
END:STANDARD
BEGIN:DAYLIGHT
TZOFFSETFROM:-0500
TZOFFSETTO:-0400
TZNAME:EDT
DTSTART:20260308T070000
END:DAYLIGHT
BEGIN:STANDARD
TZOFFSETFROM:-0400
TZOFFSETTO:-0500
TZNAME:EST
DTSTART:20261101T060000
END:STANDARD
BEGIN:DAYLIGHT
TZOFFSETFROM:-0500
TZOFFSETTO:-0400
TZNAME:EDT
DTSTART:20270314T070000
END:DAYLIGHT
BEGIN:STANDARD
TZOFFSETFROM:-0400
TZOFFSETTO:-0500
TZNAME:EST
DTSTART:20271107T060000
END:STANDARD
END:VTIMEZONE
BEGIN:VEVENT
DTSTART;TZID=America/Toronto:20260120T130000
DTEND;TZID=America/Toronto:20260120T140000
DTSTAMP:20260421T174819
CREATED:20251208T223536Z
LAST-MODIFIED:20251208T223536Z
UID:8958-1768914000-1768917600@iwscc.ca
SUMMARY:Marketing for Mere Mortals: Authentic Connection & Growth
DESCRIPTION:Feel like marketing is a soulless grind? This workshop is for small business owners who want to skip the social media noise and connect authentically with real people. Learn why person-to-person marketing outshines digital hype for small businesses in BC\, how to craft a genuine story\, and practical ways to spread the word without feeling salesy. From effective business cards to networking that feels natural\, you’ll gain tools to build meaningful business relationships that work for you. \nLearning Outcomes: \n\nWhy Person-to-Person Marketing Works Better\nFinding Your Marketing Style\nThe Foundations: Who & Why Before How\nPractical\, Sustainable Marketing Strategies\nMeasuring What Matters\nBuilding Your Minimum Viable Marketing Plan\n\nCost to Attend\nThis event is free to attend for BC residents. For attendees outside of BC there is a $30 ticket fee. \nIWSCC Certified Suppliers outside of BC can contact us at info@iwscc.ca to reimburse their ticket cost for this event. For more information\, or for questions about ticketing please visit the official page. \nThis is an IWSCC Community Partner Event\, hosted by Community Futures BC.\nTo learn more about this event\, including registration\, accessibility\, and contact information\, please visit the host’s official page with the link below. \nLearn more about the event and register here.\nLearn more about IWSCC Community Partners here.
URL:https://iwscc.ca/event/cfbc-marketing-for-mere-mortals-jan20/
LOCATION:Virtual
CATEGORIES:Learning,Partner Event,Virtual
ATTACH;FMTTYPE=image/png:https://iwscc.ca/wp-content/uploads/2025/12/Blog-Event-Banners.png
END:VEVENT
BEGIN:VEVENT
DTSTART;TZID=America/Toronto:20260127T130000
DTEND;TZID=America/Toronto:20260127T140000
DTSTAMP:20260421T174819
CREATED:20251208T223852Z
LAST-MODIFIED:20260108T183208Z
UID:8965-1769518800-1769522400@iwscc.ca
SUMMARY:AI Tools That Will Be Your Employee of the Month
DESCRIPTION:Feeling overwhelmed by all the AI hype but curious about what it could actually do for your business? This practical\, jargon-free workshop is your friendly introduction to AI tools that can genuinely lighten your load. We’ll explore real-world applications for tasks you’re probably doing manually right now—from drafting emails and creating content to managing data and generating ideas. No technical background needed! You’ll see live demonstrations\, learn which tools are worth your time (and which are just noise)\, and discover how to ethically integrate AI into your workflow without losing your authentic voice. Leave with a starter toolkit and the confidence to experiment. \nLearning Outcomes: \n\nWhy AI Matters for Small Business Now\nCategories of Useful AI Tools\nThe Tools Worth Knowing\nUsing AI Ethically & Authentically\nGetting Started: Your AI Integration Plan\n\nCost to Attend\nThis event is free to attend for BC residents. For attendees outside of BC there is a $30 ticket fee. \nIWSCC Certified Suppliers outside of BC can contact us at info@iwscc.ca to reimburse their ticket cost for this event. For more information\, or for questions about ticketing please visit the official page. \nThis is an IWSCC Community Partner Event\, hosted by Community Futures BC.\nTo learn more about this event\, including registration\, accessibility\, and contact information\, please visit the host’s official page with the link below. \nLearn more about the event and register here.\nLearn more about IWSCC Community Partners here.
URL:https://iwscc.ca/event/cfbc-ai-tools-jan27/
LOCATION:Virtual
CATEGORIES:Learning,Partner Event,Virtual
ATTACH;FMTTYPE=image/png:https://iwscc.ca/wp-content/uploads/2025/12/Blog-Event-Banners-2.png
END:VEVENT
BEGIN:VEVENT
DTSTART;TZID=America/Toronto:20260128T120000
DTEND;TZID=America/Toronto:20260128T130000
DTSTAMP:20260421T174819
CREATED:20251208T224132Z
LAST-MODIFIED:20251211T220457Z
UID:8969-1769601600-1769605200@iwscc.ca
SUMMARY:How do the changes to the SR&ED program affect you?
DESCRIPTION:Join us for an insightful webinar exploring the recent proposed changes to the Scientific Research & Experimental Development (SR&ED) program. Our experts will break down what these updates mean for your organization\, highlight key opportunities and challenges\, and provide practical guidance on navigating the evolving landscape. Whether you’re new to SR&ED or a seasoned participant\, this session will equip you with the knowledge you need to maximize your innovation incentives. Don’t miss out—register today! \nThis is an IWSCC Community Partner Event\, hosted by Boundless Accelerator.\nTo learn more about this event\, including registration\, accessibility\, and contact information\, please visit the host’s official page with the link below. \nLearn more about the event and register here.\nLearn more about IWSCC Community Partners here.
URL:https://iwscc.ca/event/boundless-changes-to-sred-jan-28/
LOCATION:Virtual
CATEGORIES:Learning,Partner Event,Virtual
ATTACH;FMTTYPE=image/png:https://iwscc.ca/wp-content/uploads/2025/12/Blog-Event-Banners-3.png
END:VEVENT
BEGIN:VEVENT
DTSTART;TZID=America/Toronto:20260128T130000
DTEND;TZID=America/Toronto:20260128T140000
DTSTAMP:20260421T174819
CREATED:20251113T172710Z
LAST-MODIFIED:20251222T212214Z
UID:8821-1769605200-1769608800@iwscc.ca
SUMMARY:Stress Management for Entrepreneurs - Thriving Beyond Survival Mode
DESCRIPTION:Starting and running a business while managing disability\, neurodivergence\, and/or veteran-related challenges creates unique stressors that standard entrepreneurial advice rarely addresses. Many face a triple burden: business demands\, the realities of disability or neurodivergence\, and systemic barriers. \nThis interactive webinar offers an evidence-based\, accessibility-focused\, and lived-experience-driven approach to stress management. Instead of pushing harder\, participants will learn to honor their energy patterns\, integrate sustainable self-care\, and build supportive systems that align with their authentic way of working. The goal is to move from survival mode into sustainable success. \nLearning Outcomes\nParticipants will be able to: \n\nRecognize stress patterns unique to disabled and Veteran entrepreneurs\nDevelop self-care practices that affirm your needs\n Build energy-aware time management systems\n Apply delegation strategies to reduce overwhelm\nEstablish boundaries that protect both well-being and propel business growth\n\nWho is Jenine Lillian?\nJenine Lillian is a disabled Canadian entrepreneur and educator who knows first-hand what it’s like to struggle with meeting social expectations in traditional work environments and how open office plans are detrimental to our health. After a very late-in-life diagnosis of Autism and Dyslexia\, Jenine started their own 100% remote business to offer consulting\, education and advocacy for neurodivergent adults. Their lived experience\, humour\, and unique approach shows how we can do business differently and actually bring our whole selves to work which benefits everyone. You can learn more about Jenine and their work at www.jeninelillian.com \nAccessibility Features at this Event:\n\nClosed Captions (auto-generated)\nAmerican Sign Language (ASL) Interpretation for Spoken English\n\nRegister:\nThis webinar requires registration to attend. Click here to access the registration page.
URL:https://iwscc.ca/event/stress-management-2026/
LOCATION:Virtual
CATEGORIES:IWSCC Event,Learning,Virtual
ATTACH;FMTTYPE=image/png:https://iwscc.ca/wp-content/uploads/2025/11/Webinar2026_JenineLillian_Banner_Website-Banner.png
END:VEVENT
END:VCALENDAR