BEGIN:VCALENDAR
VERSION:2.0
PRODID:-//Inclusive Workplace and Supply Council of Canada - ECPv6.15.20//NONSGML v1.0//EN
CALSCALE:GREGORIAN
METHOD:PUBLISH
X-ORIGINAL-URL:https://iwscc.ca
X-WR-CALDESC:Events for Inclusive Workplace and Supply Council of Canada
REFRESH-INTERVAL;VALUE=DURATION:PT1H
X-Robots-Tag:noindex
X-PUBLISHED-TTL:PT1H
BEGIN:VTIMEZONE
TZID:America/Toronto
BEGIN:DAYLIGHT
TZOFFSETFROM:-0500
TZOFFSETTO:-0400
TZNAME:EDT
DTSTART:20240310T070000
END:DAYLIGHT
BEGIN:STANDARD
TZOFFSETFROM:-0400
TZOFFSETTO:-0500
TZNAME:EST
DTSTART:20241103T060000
END:STANDARD
BEGIN:DAYLIGHT
TZOFFSETFROM:-0500
TZOFFSETTO:-0400
TZNAME:EDT
DTSTART:20250309T070000
END:DAYLIGHT
BEGIN:STANDARD
TZOFFSETFROM:-0400
TZOFFSETTO:-0500
TZNAME:EST
DTSTART:20251102T060000
END:STANDARD
BEGIN:DAYLIGHT
TZOFFSETFROM:-0500
TZOFFSETTO:-0400
TZNAME:EDT
DTSTART:20260308T070000
END:DAYLIGHT
BEGIN:STANDARD
TZOFFSETFROM:-0400
TZOFFSETTO:-0500
TZNAME:EST
DTSTART:20261101T060000
END:STANDARD
BEGIN:DAYLIGHT
TZOFFSETFROM:-0500
TZOFFSETTO:-0400
TZNAME:EDT
DTSTART:20270314T070000
END:DAYLIGHT
BEGIN:STANDARD
TZOFFSETFROM:-0400
TZOFFSETTO:-0500
TZNAME:EST
DTSTART:20271107T060000
END:STANDARD
END:VTIMEZONE
BEGIN:VEVENT
DTSTART;TZID=America/Toronto:20260318T130000
DTEND;TZID=America/Toronto:20260318T140000
DTSTAMP:20260421T211322
CREATED:20260309T163349Z
LAST-MODIFIED:20260309T194405Z
UID:9386-1773838800-1773842400@iwscc.ca
SUMMARY:Celebrate Neurodiversity!
DESCRIPTION:For Neurodiversity Celebration Week\, Jenine Lillian\, #ActuallyAutistic neurodiversity consultant and educator\, is offering a FREE International Zoom event! Wednesday\, March 18th 10am PT – 11am PT. Grab a bevvy and join us for a celebration of our ND strengths and talents. No registration required. \nThis is an IWSCC Community Event hosted by Jenine Lillian Neurodiversity Education & Consulting\, an IWSCC Certified Supplier.\nTo learn more about this event\, including registration\, accessibility\, and contact information\, please visit the host’s official page with the link below. \nLearn more about the event and register here.\nLearn more about IWSCC Certified Suppliers here.
URL:https://iwscc.ca/event/celebrate-neurodiversity/
LOCATION:Virtual
CATEGORIES:Certified Supplier Event,Learning,Virtual
ATTACH;FMTTYPE=image/png:https://iwscc.ca/wp-content/uploads/2026/03/03-18_JenineLillian_CelebrateND_Banner.png
END:VEVENT
BEGIN:VEVENT
DTSTART;TZID=America/Toronto:20251229T170000
DTEND;TZID=America/Toronto:20251229T180000
DTSTAMP:20260421T211322
CREATED:20251203T154307Z
LAST-MODIFIED:20251211T215116Z
UID:8926-1767027600-1767031200@iwscc.ca
SUMMARY:Affordable Group Zoom Session: Support to Apply for the Disability Tax Credit (DTC)
DESCRIPTION:What is the Disability Tax Credit (DTC)? The DTC is a non-refundable tax credit which helps reduce the income tax that people with physical or mental impairments\, or their supporting family members\, may have to pay. It aims to offset some of the costs related to the impairment. The great thing about the DTC is that once you are approved\, it will automatically be applied to future tax years! Follow up support provided. Resource packet included in workshop offerings. \nRequirements to Attend / Participate:\nParticipants must have or be getting a formal diagnosis of a disability\, whether visible or invisible. For the second phase of the application\, participants will need a registered\, qualified clinician to complete the verification process for the DTC. \nThis is an IWSCC Certified Supplier Event\, hosted by Jenine Lillian Neurodiversity Consulting & Education.\nTo learn more about the host or to contact them about this event please see this digital flyer or visit www.jeninelillian.com \nCost to Attend:\nThe cost to attend this event is $30 for general tickets; $25 for students or unemployed persons. \nAccessibility Features at this Event:\nTranscript and closed captioning available\, as well as OtterAI notetaker. If participants have a caretaker who will assist them in applying for the DTC\, that person need not pay to attend. \nRegister:\nThis session requires registration to attend. Click here to access the registration form.
URL:https://iwscc.ca/event/dtc-apply-support-dec26/
LOCATION:Virtual
CATEGORIES:Certified Supplier Event,Virtual
ATTACH;FMTTYPE=image/png:https://iwscc.ca/wp-content/uploads/2025/12/Blog-Event-Banners-1.png
END:VEVENT
END:VCALENDAR