BEGIN:VCALENDAR
VERSION:2.0
PRODID:-//Inclusive Workplace and Supply Council of Canada - ECPv6.15.20//NONSGML v1.0//EN
CALSCALE:GREGORIAN
METHOD:PUBLISH
X-ORIGINAL-URL:https://iwscc.ca
X-WR-CALDESC:Events for Inclusive Workplace and Supply Council of Canada
REFRESH-INTERVAL;VALUE=DURATION:PT1H
X-Robots-Tag:noindex
X-PUBLISHED-TTL:PT1H
BEGIN:VTIMEZONE
TZID:America/Toronto
BEGIN:DAYLIGHT
TZOFFSETFROM:-0500
TZOFFSETTO:-0400
TZNAME:EDT
DTSTART:20240310T070000
END:DAYLIGHT
BEGIN:STANDARD
TZOFFSETFROM:-0400
TZOFFSETTO:-0500
TZNAME:EST
DTSTART:20241103T060000
END:STANDARD
BEGIN:DAYLIGHT
TZOFFSETFROM:-0500
TZOFFSETTO:-0400
TZNAME:EDT
DTSTART:20250309T070000
END:DAYLIGHT
BEGIN:STANDARD
TZOFFSETFROM:-0400
TZOFFSETTO:-0500
TZNAME:EST
DTSTART:20251102T060000
END:STANDARD
BEGIN:DAYLIGHT
TZOFFSETFROM:-0500
TZOFFSETTO:-0400
TZNAME:EDT
DTSTART:20260308T070000
END:DAYLIGHT
BEGIN:STANDARD
TZOFFSETFROM:-0400
TZOFFSETTO:-0500
TZNAME:EST
DTSTART:20261101T060000
END:STANDARD
END:VTIMEZONE
BEGIN:VEVENT
DTSTART;TZID=America/Toronto:20251021T120000
DTEND;TZID=America/Toronto:20251021T133000
DTSTAMP:20260421T235106
CREATED:20250918T151244Z
LAST-MODIFIED:20250918T154259Z
UID:8695-1761048000-1761053400@iwscc.ca
SUMMARY:Unlock Growth Through Omnichannel Selling
DESCRIPTION:Ready to take your business to the next level?  \nJoin Boundless Accelerator for an engaging session on how to harness the power of online marketplaces and digital channels to scale smarter. We’ll explore how omnichannel strategies can expand your reach\, the best ways to boost brand exposure online\, and why building a strong digital presence is no longer optional—it’s essential. Plus\, discover practical tools you can start using today to manage\, grow\, and optimize your online business. \nThis is an IWSCC Community Partner Event\, hosted by Boundless Accelerator.\nTo learn more about this event\, including registration\, accessibility\, and contact information\, please visit the host’s official page with the link below. \nLearn more about the event and register here.\nLearn more about IWSCC Community Partners here.
URL:https://iwscc.ca/event/unlock-growth-through-omnichannel-selling/
LOCATION:Virtual
CATEGORIES:Partner Event,Virtual
ATTACH;FMTTYPE=image/png:https://iwscc.ca/wp-content/uploads/2025/09/Blog-Event-Banners_Boundless_Oct21.png
END:VEVENT
END:VCALENDAR