BEGIN:VCALENDAR
VERSION:2.0
PRODID:-//Inclusive Workplace and Supply Council of Canada - ECPv6.15.20//NONSGML v1.0//EN
CALSCALE:GREGORIAN
METHOD:PUBLISH
X-WR-CALNAME:Inclusive Workplace and Supply Council of Canada
X-ORIGINAL-URL:https://iwscc.ca
X-WR-CALDESC:Events for Inclusive Workplace and Supply Council of Canada
REFRESH-INTERVAL;VALUE=DURATION:PT1H
X-Robots-Tag:noindex
X-PUBLISHED-TTL:PT1H
BEGIN:VTIMEZONE
TZID:America/Toronto
BEGIN:DAYLIGHT
TZOFFSETFROM:-0500
TZOFFSETTO:-0400
TZNAME:EDT
DTSTART:20240310T070000
END:DAYLIGHT
BEGIN:STANDARD
TZOFFSETFROM:-0400
TZOFFSETTO:-0500
TZNAME:EST
DTSTART:20241103T060000
END:STANDARD
BEGIN:DAYLIGHT
TZOFFSETFROM:-0500
TZOFFSETTO:-0400
TZNAME:EDT
DTSTART:20250309T070000
END:DAYLIGHT
BEGIN:STANDARD
TZOFFSETFROM:-0400
TZOFFSETTO:-0500
TZNAME:EST
DTSTART:20251102T060000
END:STANDARD
BEGIN:DAYLIGHT
TZOFFSETFROM:-0500
TZOFFSETTO:-0400
TZNAME:EDT
DTSTART:20260308T070000
END:DAYLIGHT
BEGIN:STANDARD
TZOFFSETFROM:-0400
TZOFFSETTO:-0500
TZNAME:EST
DTSTART:20261101T060000
END:STANDARD
END:VTIMEZONE
BEGIN:VEVENT
DTSTART;TZID=America/Toronto:20251001T173000
DTEND;TZID=America/Toronto:20251001T190000
DTSTAMP:20260421T222731
CREATED:20250918T154227Z
LAST-MODIFIED:20250918T154227Z
UID:8705-1759339800-1759345200@iwscc.ca
SUMMARY:La Cité EcoResponsible Certification Program IN PERSON Information & Networking Session
DESCRIPTION:Boundless Accelerator is excited to be partnering with La Cité des Affaires to bring an eco-certification program to Guelph area SME’s starting this fall. La Cité des Affaires\, through funding from FedDev Ontario\, is continuing to offer its EcoResponsible Certification Program to help SMEs across Southern Ontario formalize their sustainability practices and enhance their competitiveness. For the Fall 2025 cohort\, five fully funded spots are reserved exclusively for businesses in the Guelph–Kitchener–Waterloo–Cambridge region. \nThis is an IWSCC Community Partner Event\, hosted by Boundless Accelerator.\nTo learn more about this event\, including registration\, accessibility\, and contact information\, please visit the host’s official page with the link below. \nLearn more about the event and register here.\nLearn more about IWSCC Community Partners here.
URL:https://iwscc.ca/event/boundless-la-cite-ecoresponsible/
LOCATION:Boundless Accelerator\, 400 Southgate Dr (Upstairs)\, Guelph\, ON\, N1G 4P5\, Canada
CATEGORIES:In-Person,Partner Event
ATTACH;FMTTYPE=image/png:https://iwscc.ca/wp-content/uploads/2025/09/Blog-Event-Banners_Boundless_Oct1.png
END:VEVENT
END:VCALENDAR