BEGIN:VCALENDAR
VERSION:2.0
PRODID:-//Inclusive Workplace and Supply Council of Canada - ECPv6.15.20//NONSGML v1.0//EN
CALSCALE:GREGORIAN
METHOD:PUBLISH
X-ORIGINAL-URL:https://iwscc.ca
X-WR-CALDESC:Events for Inclusive Workplace and Supply Council of Canada
REFRESH-INTERVAL;VALUE=DURATION:PT1H
X-Robots-Tag:noindex
X-PUBLISHED-TTL:PT1H
BEGIN:VTIMEZONE
TZID:America/Toronto
BEGIN:DAYLIGHT
TZOFFSETFROM:-0500
TZOFFSETTO:-0400
TZNAME:EDT
DTSTART:20240310T070000
END:DAYLIGHT
BEGIN:STANDARD
TZOFFSETFROM:-0400
TZOFFSETTO:-0500
TZNAME:EST
DTSTART:20241103T060000
END:STANDARD
BEGIN:DAYLIGHT
TZOFFSETFROM:-0500
TZOFFSETTO:-0400
TZNAME:EDT
DTSTART:20250309T070000
END:DAYLIGHT
BEGIN:STANDARD
TZOFFSETFROM:-0400
TZOFFSETTO:-0500
TZNAME:EST
DTSTART:20251102T060000
END:STANDARD
BEGIN:DAYLIGHT
TZOFFSETFROM:-0500
TZOFFSETTO:-0400
TZNAME:EDT
DTSTART:20260308T070000
END:DAYLIGHT
BEGIN:STANDARD
TZOFFSETFROM:-0400
TZOFFSETTO:-0500
TZNAME:EST
DTSTART:20261101T060000
END:STANDARD
END:VTIMEZONE
BEGIN:VEVENT
DTSTART;VALUE=DATE:20250530
DTEND;VALUE=DATE:20250602
DTSTAMP:20260421T162210
CREATED:20250509T165742Z
LAST-MODIFIED:20250509T165826Z
UID:7454-1748563200-1748822399@iwscc.ca
SUMMARY:Niagara 2025 Ontario Parasport Games
DESCRIPTION:Presented by Sport Niagara\, in May 2025 Niagara will welcome athletes\, managers\, coaches\, officials\, and volunteers from across Ontario for the 44th Ontario Parasport Games. Between May 30 to June 1\, events will be held at sporting facilities across the Niagara region including Canada Games Park and Brock University in Thorold and the Vale Health and Wellness Centre in Port Colborne. \nVisit the Official Event Page for More Information
URL:https://iwscc.ca/event/niagara-2025-ontario-parasport-games/
CATEGORIES:In-Person,Partner Event
ATTACH;FMTTYPE=image/webp:https://iwscc.ca/wp-content/uploads/2025/05/wheelchair-basketball-fp-bab13c71-1024x410-1.webp
END:VEVENT
BEGIN:VEVENT
DTSTART;VALUE=DATE:20250531
DTEND;VALUE=DATE:20250601
DTSTAMP:20260421T162210
CREATED:20250509T164511Z
LAST-MODIFIED:20250509T165812Z
UID:7437-1748649600-1748735999@iwscc.ca
SUMMARY:AccessFest
DESCRIPTION:AccessFest is a first-of-its-kind\, open-to-all celebration of inclusion. Set in the heart of downtown Toronto\, this one-day festival is where accessibility meets culture—with a lineup that’s fresh\, empowering\, and undeniably fun. \nAccessNow is transforming David Pecaut Square into a buzzing\, barrier-free hub of activity. Think big stage energy\, real conversations\, immersive installations\, and a community that knows how to show up. \nVisit the Official AccessFest Page for More Information
URL:https://iwscc.ca/event/accessfest/
LOCATION:David Pecaut Square\, 215 King St West\, Toronto\, Ontario\, Canada
CATEGORIES:In-Person,Partner Event
ATTACH;FMTTYPE=image/png:https://iwscc.ca/wp-content/uploads/2025/05/AccessFest_IWSCC-Banner.png
END:VEVENT
END:VCALENDAR