BEGIN:VCALENDAR
VERSION:2.0
PRODID:-//Inclusive Workplace and Supply Council of Canada - ECPv6.15.20//NONSGML v1.0//EN
CALSCALE:GREGORIAN
METHOD:PUBLISH
X-ORIGINAL-URL:https://iwscc.ca
X-WR-CALDESC:Events for Inclusive Workplace and Supply Council of Canada
REFRESH-INTERVAL;VALUE=DURATION:PT1H
X-Robots-Tag:noindex
X-PUBLISHED-TTL:PT1H
BEGIN:VTIMEZONE
TZID:America/Toronto
BEGIN:DAYLIGHT
TZOFFSETFROM:-0500
TZOFFSETTO:-0400
TZNAME:EDT
DTSTART:20240310T070000
END:DAYLIGHT
BEGIN:STANDARD
TZOFFSETFROM:-0400
TZOFFSETTO:-0500
TZNAME:EST
DTSTART:20241103T060000
END:STANDARD
BEGIN:DAYLIGHT
TZOFFSETFROM:-0500
TZOFFSETTO:-0400
TZNAME:EDT
DTSTART:20250309T070000
END:DAYLIGHT
BEGIN:STANDARD
TZOFFSETFROM:-0400
TZOFFSETTO:-0500
TZNAME:EST
DTSTART:20251102T060000
END:STANDARD
BEGIN:DAYLIGHT
TZOFFSETFROM:-0500
TZOFFSETTO:-0400
TZNAME:EDT
DTSTART:20260308T070000
END:DAYLIGHT
BEGIN:STANDARD
TZOFFSETFROM:-0400
TZOFFSETTO:-0500
TZNAME:EST
DTSTART:20261101T060000
END:STANDARD
END:VTIMEZONE
BEGIN:VEVENT
DTSTART;TZID=America/Toronto:20250527T090000
DTEND;TZID=America/Toronto:20250527T130000
DTSTAMP:20260421T162208
CREATED:20250328T201841Z
LAST-MODIFIED:20250509T170010Z
UID:7334-1748336400-1748350800@iwscc.ca
SUMMARY:4th Annual City of Brampton Reverse Vendor Tradeshow
DESCRIPTION:IWSCC is attending Brampton’s 4th Annual Reverse Vendor Tradeshow on May 27th. Connect with city buyers and discover procurement opportunities in Brampton. \nThe City of Brampton is excited to announce their 4th Annual Reverse Vendor Tradeshow is happening on May 27th at The Rose Brampton! Join us as we connect vendors with the people\, tools\, and processes for doing business with us. \nIf you’re a vendor with goods or services but unsure how to navigate the process\, this event is for you. \nRegistration\nThis event is hosted by an IWSCC Corporate Member. To learn more about this event\, or to register\, please visit their official event page here.
URL:https://iwscc.ca/event/brampton-rvt-2025/
LOCATION:The Rose Brampton\, 1 Theatre Lane\, Brampton\, ON\, L6V 0A3\, Canada
CATEGORIES:Corporate Member Event,In-Person
ATTACH;FMTTYPE=image/avif:https://iwscc.ca/wp-content/uploads/2025/03/https___cdn.evbuc_.com_images_711242799_136312012227_1_original.avif
END:VEVENT
END:VCALENDAR