BEGIN:VCALENDAR
VERSION:2.0
PRODID:-//Inclusive Workplace and Supply Council of Canada - ECPv6.15.20//NONSGML v1.0//EN
CALSCALE:GREGORIAN
METHOD:PUBLISH
X-ORIGINAL-URL:https://iwscc.ca
X-WR-CALDESC:Events for Inclusive Workplace and Supply Council of Canada
REFRESH-INTERVAL;VALUE=DURATION:PT1H
X-Robots-Tag:noindex
X-PUBLISHED-TTL:PT1H
BEGIN:VTIMEZONE
TZID:America/Toronto
BEGIN:DAYLIGHT
TZOFFSETFROM:-0500
TZOFFSETTO:-0400
TZNAME:EDT
DTSTART:20240310T070000
END:DAYLIGHT
BEGIN:STANDARD
TZOFFSETFROM:-0400
TZOFFSETTO:-0500
TZNAME:EST
DTSTART:20241103T060000
END:STANDARD
BEGIN:DAYLIGHT
TZOFFSETFROM:-0500
TZOFFSETTO:-0400
TZNAME:EDT
DTSTART:20250309T070000
END:DAYLIGHT
BEGIN:STANDARD
TZOFFSETFROM:-0400
TZOFFSETTO:-0500
TZNAME:EST
DTSTART:20251102T060000
END:STANDARD
BEGIN:DAYLIGHT
TZOFFSETFROM:-0500
TZOFFSETTO:-0400
TZNAME:EDT
DTSTART:20260308T070000
END:DAYLIGHT
BEGIN:STANDARD
TZOFFSETFROM:-0400
TZOFFSETTO:-0500
TZNAME:EST
DTSTART:20261101T060000
END:STANDARD
END:VTIMEZONE
BEGIN:VEVENT
DTSTART;TZID=America/Toronto:20250524T090000
DTEND;TZID=America/Toronto:20250524T140000
DTSTAMP:20260421T162208
CREATED:20250509T165236Z
LAST-MODIFIED:20250509T165236Z
UID:7446-1748077200-1748095200@iwscc.ca
SUMMARY:VBNI: Veteran Pitchfest
DESCRIPTION:Join the Veteran Business Network Institute (VBNI) for our first veteran focused pitchfest with up to $25k in prize money. One day of training and lessons on how to prepare the perfect pitch followed by your chance to present in front of 3 judges. \nVisit the Official Event Page for More Information
URL:https://iwscc.ca/event/vbni-veteran-pitchfest/
LOCATION:University of Ottawa Campus\, Desmarais 12110\, 55 Laurier Ave E\, Ottawa\, Ontario\, K1N 6N5\, Canada
ATTACH;FMTTYPE=image/jpeg:https://iwscc.ca/wp-content/uploads/2025/05/67e4cc6a1baf2bd46642ad11_pitchfest1-scaled.jpeg
END:VEVENT
END:VCALENDAR