BEGIN:VCALENDAR
VERSION:2.0
PRODID:-//Inclusive Workplace and Supply Council of Canada - ECPv6.15.20//NONSGML v1.0//EN
CALSCALE:GREGORIAN
METHOD:PUBLISH
X-ORIGINAL-URL:https://iwscc.ca
X-WR-CALDESC:Events for Inclusive Workplace and Supply Council of Canada
REFRESH-INTERVAL;VALUE=DURATION:PT1H
X-Robots-Tag:noindex
X-PUBLISHED-TTL:PT1H
BEGIN:VTIMEZONE
TZID:America/Toronto
BEGIN:DAYLIGHT
TZOFFSETFROM:-0500
TZOFFSETTO:-0400
TZNAME:EDT
DTSTART:20240310T070000
END:DAYLIGHT
BEGIN:STANDARD
TZOFFSETFROM:-0400
TZOFFSETTO:-0500
TZNAME:EST
DTSTART:20241103T060000
END:STANDARD
BEGIN:DAYLIGHT
TZOFFSETFROM:-0500
TZOFFSETTO:-0400
TZNAME:EDT
DTSTART:20250309T070000
END:DAYLIGHT
BEGIN:STANDARD
TZOFFSETFROM:-0400
TZOFFSETTO:-0500
TZNAME:EST
DTSTART:20251102T060000
END:STANDARD
BEGIN:DAYLIGHT
TZOFFSETFROM:-0500
TZOFFSETTO:-0400
TZNAME:EDT
DTSTART:20260308T070000
END:DAYLIGHT
BEGIN:STANDARD
TZOFFSETFROM:-0400
TZOFFSETTO:-0500
TZNAME:EST
DTSTART:20261101T060000
END:STANDARD
END:VTIMEZONE
BEGIN:VEVENT
DTSTART;TZID=America/Toronto:20250226T140000
DTEND;TZID=America/Toronto:20250226T160000
DTSTAMP:20260421T115136
CREATED:20250203T222912Z
LAST-MODIFIED:20250210T160853Z
UID:6890-1740578400-1740585600@iwscc.ca
SUMMARY:Meet the Suppliers: Training\, Assessment\, and Certification
DESCRIPTION:Let’s get connected! IWSCC presents your next Diverse Supplier networking opportunity featuring business that help your organization be at its best through expert guidance and measured assessment. \nWhat to Expect\nConnect with Certified Veteran-Owned and Disabled-Owned businesses specialized in innovative training\, expert assessment\, and official certification in a range of fields and sectors. Reach your goals\, empower your teams\, and exceed expectations with IWSCC Certified Suppliers. \nAgenda:\n2:00 – 2:10: Words of Welcome from IWSCC\n2:10 – 2:40: IWSCC Certified Supplier Introductions\n2:40 – 3:50: Virtual Roundtable Networking\n3:50 – 4:00: IWSCC Thanks and Announcements \nAccessibility at this Event\nThis event will feature American Sign Language (ASL) Interpretation for Spoken English provided by Maple Communications Canada and sponsored by RBC. Live Closed Captions are also available via Zoom. \nRegistration\nYou can use This Link to Register.
URL:https://iwscc.ca/event/meet-the-suppliers-training-assessment-and-certification/
LOCATION:Virtual
CATEGORIES:Members Only,Networking,Virtual
ATTACH;FMTTYPE=image/png:https://iwscc.ca/wp-content/uploads/2025/01/Banner_MTS_Feb26-3.png
END:VEVENT
END:VCALENDAR