BEGIN:VCALENDAR
VERSION:2.0
PRODID:-//Inclusive Workplace and Supply Council of Canada - ECPv6.15.20//NONSGML v1.0//EN
CALSCALE:GREGORIAN
METHOD:PUBLISH
X-WR-CALNAME:Inclusive Workplace and Supply Council of Canada
X-ORIGINAL-URL:https://iwscc.ca
X-WR-CALDESC:Events for Inclusive Workplace and Supply Council of Canada
REFRESH-INTERVAL;VALUE=DURATION:PT1H
X-Robots-Tag:noindex
X-PUBLISHED-TTL:PT1H
BEGIN:VTIMEZONE
TZID:America/Toronto
BEGIN:DAYLIGHT
TZOFFSETFROM:-0500
TZOFFSETTO:-0400
TZNAME:EDT
DTSTART:20230312T070000
END:DAYLIGHT
BEGIN:STANDARD
TZOFFSETFROM:-0400
TZOFFSETTO:-0500
TZNAME:EST
DTSTART:20231105T060000
END:STANDARD
BEGIN:DAYLIGHT
TZOFFSETFROM:-0500
TZOFFSETTO:-0400
TZNAME:EDT
DTSTART:20240310T070000
END:DAYLIGHT
BEGIN:STANDARD
TZOFFSETFROM:-0400
TZOFFSETTO:-0500
TZNAME:EST
DTSTART:20241103T060000
END:STANDARD
BEGIN:DAYLIGHT
TZOFFSETFROM:-0500
TZOFFSETTO:-0400
TZNAME:EDT
DTSTART:20250309T070000
END:DAYLIGHT
BEGIN:STANDARD
TZOFFSETFROM:-0400
TZOFFSETTO:-0500
TZNAME:EST
DTSTART:20251102T060000
END:STANDARD
END:VTIMEZONE
BEGIN:VEVENT
DTSTART;TZID=America/Toronto:20241211T130000
DTEND;TZID=America/Toronto:20241211T140000
DTSTAMP:20260421T102710
CREATED:20241021T192256Z
LAST-MODIFIED:20241129T193404Z
UID:6581-1733922000-1733925600@iwscc.ca
SUMMARY:Annual IWSCC Holiday Social
DESCRIPTION:IWSCC Community Members are invited to join us this holiday for our annual Holiday Social! This light-hearted meeting is a time to celebrate our accomplishments\, share details for next year\, and connect with each other before retiring to ring in the new year. \nThis meeting will also include a brief presentation by IWSCC as we look back at 2024 and plan for 2025\, including special community announcements\, upcoming initiatives\, and new event styles to maximize your connections with IWSCC Corporate Members. \nPut on your ugly sweaters\, warm up your beverages\, and bring your holiday spirit along with your fellow community members and the IWSCC team! \nClick here to access this event’s registration page.
URL:https://iwscc.ca/event/holiday-social-2024/
LOCATION:Virtual
CATEGORIES:Members Only,Virtual
ATTACH;FMTTYPE=image/png:https://iwscc.ca/wp-content/uploads/2024/10/IWSCC-Supplier-Social-2024_Banner_Cm.png
END:VEVENT
END:VCALENDAR