BEGIN:VCALENDAR
VERSION:2.0
PRODID:-//Inclusive Workplace and Supply Council of Canada - ECPv6.15.20//NONSGML v1.0//EN
CALSCALE:GREGORIAN
METHOD:PUBLISH
X-WR-CALNAME:Inclusive Workplace and Supply Council of Canada
X-ORIGINAL-URL:https://iwscc.ca
X-WR-CALDESC:Events for Inclusive Workplace and Supply Council of Canada
REFRESH-INTERVAL;VALUE=DURATION:PT1H
X-Robots-Tag:noindex
X-PUBLISHED-TTL:PT1H
BEGIN:VTIMEZONE
TZID:America/Toronto
BEGIN:DAYLIGHT
TZOFFSETFROM:-0500
TZOFFSETTO:-0400
TZNAME:EDT
DTSTART:20230312T070000
END:DAYLIGHT
BEGIN:STANDARD
TZOFFSETFROM:-0400
TZOFFSETTO:-0500
TZNAME:EST
DTSTART:20231105T060000
END:STANDARD
BEGIN:DAYLIGHT
TZOFFSETFROM:-0500
TZOFFSETTO:-0400
TZNAME:EDT
DTSTART:20240310T070000
END:DAYLIGHT
BEGIN:STANDARD
TZOFFSETFROM:-0400
TZOFFSETTO:-0500
TZNAME:EST
DTSTART:20241103T060000
END:STANDARD
BEGIN:DAYLIGHT
TZOFFSETFROM:-0500
TZOFFSETTO:-0400
TZNAME:EDT
DTSTART:20250309T070000
END:DAYLIGHT
BEGIN:STANDARD
TZOFFSETFROM:-0400
TZOFFSETTO:-0500
TZNAME:EST
DTSTART:20251102T060000
END:STANDARD
END:VTIMEZONE
BEGIN:VEVENT
DTSTART;TZID=America/Toronto:20241127T130000
DTEND;TZID=America/Toronto:20241127T150000
DTSTAMP:20260421T074305
CREATED:20241003T145145Z
LAST-MODIFIED:20241021T194121Z
UID:6512-1732712400-1732719600@iwscc.ca
SUMMARY:Evolve: The National Forum for Veteran Entrepreneurship
DESCRIPTION:Evolve is a celebration of Veteran entrepreneurship in Canada. Rather than a sidestep\, a change\, or a transformation\, retirement from the military is an evolution\, as Veterans channel their hard-earned skills\, experience\, and work ethic into the next stage of their careers. \nFeaturing speakers from across Canada\, Evolve is a space for Veteran business owners and their supporters to share experience and resources. \nSave the date below\, or learn more on the official Evolve Forum page.
URL:https://iwscc.ca/event/evolve-forum-2024-cal/
LOCATION:Virtual
CATEGORIES:Learning,Open House,Virtual
ATTACH;FMTTYPE=image/png:https://iwscc.ca/wp-content/uploads/2024/10/2024-Banner-Clean-2.png
END:VEVENT
END:VCALENDAR