BEGIN:VCALENDAR
VERSION:2.0
PRODID:-//Inclusive Workplace and Supply Council of Canada - ECPv6.15.20//NONSGML v1.0//EN
CALSCALE:GREGORIAN
METHOD:PUBLISH
X-ORIGINAL-URL:https://iwscc.ca
X-WR-CALDESC:Events for Inclusive Workplace and Supply Council of Canada
REFRESH-INTERVAL;VALUE=DURATION:PT1H
X-Robots-Tag:noindex
X-PUBLISHED-TTL:PT1H
BEGIN:VTIMEZONE
TZID:America/Toronto
BEGIN:DAYLIGHT
TZOFFSETFROM:-0500
TZOFFSETTO:-0400
TZNAME:EDT
DTSTART:20230312T070000
END:DAYLIGHT
BEGIN:STANDARD
TZOFFSETFROM:-0400
TZOFFSETTO:-0500
TZNAME:EST
DTSTART:20231105T060000
END:STANDARD
BEGIN:DAYLIGHT
TZOFFSETFROM:-0500
TZOFFSETTO:-0400
TZNAME:EDT
DTSTART:20240310T070000
END:DAYLIGHT
BEGIN:STANDARD
TZOFFSETFROM:-0400
TZOFFSETTO:-0500
TZNAME:EST
DTSTART:20241103T060000
END:STANDARD
BEGIN:DAYLIGHT
TZOFFSETFROM:-0500
TZOFFSETTO:-0400
TZNAME:EDT
DTSTART:20250309T070000
END:DAYLIGHT
BEGIN:STANDARD
TZOFFSETFROM:-0400
TZOFFSETTO:-0500
TZNAME:EST
DTSTART:20251102T060000
END:STANDARD
END:VTIMEZONE
BEGIN:VEVENT
DTSTART;TZID=America/Toronto:20241022T090000
DTEND;TZID=America/Toronto:20241022T160000
DTSTAMP:20260419T102954
CREATED:20241010T225025Z
LAST-MODIFIED:20241010T225112Z
UID:6560-1729587600-1729612800@iwscc.ca
SUMMARY:In-Person Event: Innovation Canada’s Business Support Expo
DESCRIPTION:Innovation Canada is pleased to present our first FREE in-person event where SMEs will get to learn – first hand – about Government of Canada support for business! Come for an hour or come for the day! Hear from panelists and representatives from programs and services across the government\, as they talk – on stage and in info booths throughout our kiosk area – about tools and resources available for Canadian businesses to start\, scale and grow. \n\nWhere: 235 Queen Street — Ottawa\, Ontario (Commercial space C1\, CD Howe\nBuilding)\nDate: Tuesday\, October 22\, 2024\,\nTime: 9 a.m. EDT to 4 p.m. EDT\nWho: Entrepreneurs\, business leaders\, and support organizations in the Ottawa\nand surrounding areas\nCost: Free\nRegister: Eventbrite\nGetting there: Location is near many OC Transpo and STO bus routes.\n\n  \n  \nActivité en personne : Exposition sur le soutien aux entreprises d’Innovation Canada \nNous sommes heureux de vous présenter notre toute première activité en personne GRATUITE qui permettra aux entrepreneurs de prendre connaissance à propos du soutien du gouvernement du Canada aux entreprises! Soyez des nôtres\, soit pour une heure\, soit pour la journée entière. Écoutez les panélistes et les représentants des programmes et services d’un bout à l’autre du gouvernement\, qui discuteront — sur scène et dans des kiosques d’information — des outils et des ressources aptes à favoriser la création d’une entreprise canadienne\, sa croissance et son expansion. \n\nLieu : 235\, rue Queen — Ottawa (Ontario) – (Espace réservé aux locaux commerciaux C1 de l’édifice CD Howe)\nDate : mardi\, le 22 octobre 2024\nHeure : de 9 h HAE à 16 h HAE\nParticipants ciblés : entrepreneurs\, dirigeants d’entreprises et organisations de soutien dans la région d’Ottawa et dans les régions voisines\nCoût : gratuit\nInscription : Eventbrite\nComment s’y rendre : L’emplacement se trouve à proximité de nombreuses lignes d’autobus d’OC Transpo et de la STO.
URL:https://iwscc.ca/event/innovation-canada-bse-2024/
LOCATION:Commercial Space C1\, CD Howe Building\, 235 Queen Street\, Ottawa\, Ontario\, Canada
CATEGORIES:In-Person,Learning
END:VEVENT
BEGIN:VEVENT
DTSTART;TZID=America/Toronto:20241022T120000
DTEND;TZID=America/Toronto:20241022T130000
DTSTAMP:20260419T102954
CREATED:20241010T221840Z
LAST-MODIFIED:20241010T222132Z
UID:6550-1729598400-1729602000@iwscc.ca
SUMMARY:Webinar: Unlock tomorrow's business trends to fast-track your growth
DESCRIPTION:Join BDC’s Chief Economist Pierre Cléroux and their experts for a free webinar to discover the four key business trends you can’t ignore and the concrete actions you can take to remain profitable and position your business for future growth. \nThis event is hosted by an organization outside of IWSCC. Click here to visit the event page. \nThis kick-off event is just one of many hosted by BDC and other organizations during Small Business Week\, running from October 20 – 26. Click here to learn more about Small Business Week and the events hosted by BDC and their partners.
URL:https://iwscc.ca/event/bdc-small-business-week-kickoff-2024/
LOCATION:Virtual
CATEGORIES:Learning,Virtual
END:VEVENT
END:VCALENDAR