BEGIN:VCALENDAR
VERSION:2.0
PRODID:-//Inclusive Workplace and Supply Council of Canada - ECPv6.15.20//NONSGML v1.0//EN
CALSCALE:GREGORIAN
METHOD:PUBLISH
X-ORIGINAL-URL:https://iwscc.ca
X-WR-CALDESC:Events for Inclusive Workplace and Supply Council of Canada
REFRESH-INTERVAL;VALUE=DURATION:PT1H
X-Robots-Tag:noindex
X-PUBLISHED-TTL:PT1H
BEGIN:VTIMEZONE
TZID:America/Toronto
BEGIN:DAYLIGHT
TZOFFSETFROM:-0500
TZOFFSETTO:-0400
TZNAME:EDT
DTSTART:20230312T070000
END:DAYLIGHT
BEGIN:STANDARD
TZOFFSETFROM:-0400
TZOFFSETTO:-0500
TZNAME:EST
DTSTART:20231105T060000
END:STANDARD
BEGIN:DAYLIGHT
TZOFFSETFROM:-0500
TZOFFSETTO:-0400
TZNAME:EDT
DTSTART:20240310T070000
END:DAYLIGHT
BEGIN:STANDARD
TZOFFSETFROM:-0400
TZOFFSETTO:-0500
TZNAME:EST
DTSTART:20241103T060000
END:STANDARD
BEGIN:DAYLIGHT
TZOFFSETFROM:-0500
TZOFFSETTO:-0400
TZNAME:EDT
DTSTART:20250309T070000
END:DAYLIGHT
BEGIN:STANDARD
TZOFFSETFROM:-0400
TZOFFSETTO:-0500
TZNAME:EST
DTSTART:20251102T060000
END:STANDARD
END:VTIMEZONE
BEGIN:VEVENT
DTSTART;TZID=America/Toronto:20240923T100000
DTEND;TZID=America/Toronto:20240923T160000
DTSTAMP:20260421T062423
CREATED:20240917T160344Z
LAST-MODIFIED:20240917T160459Z
UID:6367-1727085600-1727107200@iwscc.ca
SUMMARY:OCNI / OPG Suppliers Day
DESCRIPTION:  \n \nThe Organization of Canadian Nuclear Industries (OCNI) and Ontario Power Generation (OPG) extend a warm invitation to IWSCC Members for the upcoming OCNI/OPG Supplier Day on Monday\, September 23rd\, at the OPG headquarters in Oshawa\, ON. \nOCNI is a non-profit membership association that represents the interests of more than 250 companies in the nuclear industry across Canada and internationally. The OPG Supplier Day will be a full-day trade show with over 90 booths to explore! Attendees will also enjoy a catered lunch and coffee breaks. \nConnect with industry leaders\, showcase your unique contributions\, and explore potential partnerships within the nuclear energy sector thanks to a 20% discount on the ticket fare for IWSCC Members. \nRegistration for this event is exclusive to IWSCC Member businesses. To register\, please contact events@iwscc.ca. \n 
URL:https://iwscc.ca/event/ocni-opg-suppliers-day/
LOCATION:OPG HQ\, 1908 Colonel Sam Drive\, Oshawa\, Ontario\, L1H 8W8\, Canada
CATEGORIES:In-Person,Members Only,Networking
END:VEVENT
END:VCALENDAR